Workbook

Sheet Planilha Resumo
A1: ASSEMBLEIA LEGISLATIVA DO ESTADO DE RONDÔNIA
A2: ORÇAMENTO ESTIMATIVO
A3: PLANILHA RESUMO DO VALOR ESTIMATIVO DE FACILITIES
A4: Descrição | B4: Valor anual SEM BDI/CILT | C4: Valor mensal SEM BDI/CILT | D4: CILT (%) | E4: BDI SERVIÇOS (%) | F4: BDI MATERIAIS (%) | G4: Qtd (meses) | H4: Valor anual COM BDI/CILT | I4: Valor mensal COM BDI/CILT
A5: Mão de obra (por demanda) | B5: ='Mão de Obra'!$J$20 -> 41088.84 | C5: =B5/12 -> 3424.07 | D5: 0.2907 | E5: - | F5: - | G5: 12 | H5: ='Mão de Obra'!$J$20+'Mão de Obra'!$J$21 -> 53023.36 | I5: =H5/12 -> 4418.6133
A6: Insumos (por demanda) | B6: =Insumos!$J$62 -> 12324.53 | C6: =B6/12 -> 1027.0442 | D6: - | E6: - | F6: ='BDI Materiais '!H25 -> 0.1838 | G6: 12 | H6: =Insumos!$J$62+Insumos!$J$63 -> 14585.16 | I6: =H6/12 -> 1215.43
A7: Serviço de Manutenção Predial (por demanda) | B7: ='Man. Predial Sinté-Mão de Obra'!$J$74 -> 33059.33 | C7: =B7/12 -> 2754.9442 | D7: - | E7: ='BDI Serviços'!$H$25 -> 0.2619 | F7: - | G7: 12 | H7: ='Man. Predial Sinté-Mão de Obra'!$J$74+'Man. Predial Sinté-Mão de Obra'!$J$75 -> 41712.44 | I7: =H7/12 -> 3476.0367
A8: Serviço de Gerenciamento e Supervição de Facilities | B8: ='Serv. Gerenc. Facilities'!$J$15 -> 5512.92 | C8: =B8/12 -> 459.41 | D8: - | E8: ='BDI Serviços'!$H$25 -> 0.2619 | F8: - | G8: 12 | H8: ='Serv. Gerenc. Facilities'!$J$15+'Serv. Gerenc. Facilities'!$J$16 -> 6956.64 | I8: =H8/12 -> 579.72
A9: Serviço de Manutenção Preventiva de Ar Condicionado | B9: ='Manut. Prevent Sintét - Ar Cond'!$J$10 -> 2746.56 | C9: =B9/12 -> 228.88 | D9: - | E9: ='BDI Serviços'!$H$25 -> 0.2619 | F9: - | G9: 12 | H9: ='Manut. Prevent Sintét - Ar Cond'!$J$10+'Manut. Prevent Sintét - Ar Cond'!$J$11 -> 3465.84 | I9: =H9/12 -> 288.82
A10: Serviço de Limpeza e Conservação Predial | B10: ='Serv. Limpeza - Sintético'!$J$10 -> 13982.16 | C10: =B10/12 -> 1165.18 | D10: - | E10: ='BDI Serviços'!$H$25 -> 0.2619 | F10: - | G10: 12 | H10: ='Serv. Limpeza - Sintético'!$J$10+'Serv. Limpeza - Sintético'!$J$11 -> 17644.08 | I10: =H10/12 -> 1470.34
A11: VALOR TOTAL MENSAL ESTIMADO | I11: =SUM(I5:I10) -> 11448.96
A12: VALOR TOTAL ANUAL ESTIMADO | H12: =SUM(H5:H10) -> 137387.52
A13: Obs.: Os valores referentes ao Gerenciamento e Supervisão de Facilities, manutenção preventiva de ar condicionado e limpeza e conservação predial serão pagos de forma fixa, mediante prestação dos serviços. Os demais serviços e insumos são estimativos, em decorrência da imprevisibilidade inerente às atividades, e serão executados conforme demanda da ALE/RO, sendo pagos mediante prestação do serviço.

Sheet BDI Serviços
A1: ASSEMBLEIA LEGISLATIVA DO ESTADO DE RONDÔNIA
A2: ORÇAMENTO ESTIMATIVO
A3: PLANILHA DE COMPOSIÇÃO DE BONIFICAÇÕES E DESPESAS INDIRETAS (BDI) DE SERVIÇOS
B4: OBJETO: Locação com facilities de imóvel em Brasília/DF para implantação de escritório de representação institucional da Assembleia Legislativa do Estado de Rondônia - ALE/RO
B5: ENDEREÇO: Brasília/DF
B7: VALORES DE REFERÊNCIA - % | E7: 1º QUARTIL | F7: MÉDIO | G7: 3º QUARTIL | H7: VALOR ADOTADO
B8: GRUPO | C8: A | D8: DESPESAS INDIRETAS
C9: A.1 | D9: ADMINISTRAÇÃO CENTRAL | E9: 0.03 | F9: 0.04 | G9: 0.055 | H9: =G9 -> 0.055
C10: A.2 | D10: SEGURO + GARANTIA | E10: 0.008 | F10: 0.008 | G10: 0.01 | H10: =G10 -> 0.01
C11: A.3 | D11: RISCOS | E11: 0.0097 | F11: 0.0127 | G11: 0.0127 | H11: =G11 -> 0.0127
B12: TOTAL GRUPO A | H12: =SUM(H8:H11) -> 0.0777
B13: GRUPO | C13: B | D13: BONIFICAÇÃO | H13: =G14 -> 0.0896
C14: B.1 | D14: LUCRO BRUTO | E14: 0.0616 | F14: 0.074 | G14: 0.0896
B15: TOTAL GRUPO B | H15: =SUM(H13) -> 0.0896
B16: GRUPO | C16: C | D16: IMPOSTOS
C17: C.1 | D17: PIS | E17: 0.0065 | F17: 0.0065 | G17: 0.0065 | H17: =G17 -> 0.0065
C18: C.2 | D18: COFINS | E18: 0.03 | F18: 0.03 | G18: 0.03 | H18: =G18 -> 0.03
C19: C.3 | D19: ISSQN | E19: 0.02 | F19: 0.02 | G19: 0.02 | H19: =G19 -> 0.02
C20: C.4 | D20: CPRB | E20: 0 | F20: 0 | G20: 0 | H20: =G20 -> 0
B21: TOTAL GRUPO C | H21: =SUM(H16:H20) -> 0.0565
B22: GRUPO | C22: D | D22: DESPESAS FINANCEIRAS (F) | H22: =G23 -> 0.0139
D23: DESPESAS FINANCEIRAS | E23: 0.0059 | F23: 0.0123 | G23: 0.0139
B24: TOTAL GRUPO D | H24: =SUM(H22) -> 0.0139
B25: TOTAL BDI (SERVIÇOS) | H25: =ROUND(((((1+H12)*(1+H24)*(1+H15))/(1-H21))-1),4) -> 0.2619
A28: BDI (%) = (((1+A) x (1+D) x (1+B) ) - 1 ) x 100
A29: (1- C)
B32: FONTE: ACÓRDÃO Nº 2622/2013 – TCU – Plenário

Sheet BDI Materiais 
A1: ASSEMBLEIA LEGISLATIVA DO ESTADO DE RONDÔNIA
A2: ORÇAMENTO ESTIMATIVO
A3: PLANILHA DE COMPOSIÇÃO DE BONIFICAÇÕES E DESPESAS INDIRETAS (BDI) DE MATERIAIS, PEÇAS E EQUIPAMENTOS
B4: OBJETO: Locação com facilities de imóvel em Brasília/DF para implantação de escritório de representação institucional da Assembleia Legislativa do Estado de Rondônia - ALE/RO
B5: LOCAL: Brasília/DF
B7: VALORES DE REFERÊNCIA - % | E7: 1º QUARTIL | F7: MÉDIO | G7: 3º QUARTIL | H7: VALOR ADOTADO
B8: GRUPO | C8: A | D8: DESPESAS INDIRETAS
C9: A.1 | D9: ADMINISTRAÇÃO CENTRAL | E9: 0.015 | F9: 0.0345 | G9: 0.0449 | H9: =G9 -> 0.0449
C10: A.2 | D10: SEGURO + GARANTIA | E10: 0.003 | F10: 0.0048 | G10: 0.0082 | H10: =G10 -> 0.0082
C11: A.3 | D11: RISCOS | E11: 0.0056 | F11: 0.0085 | G11: 0.0089 | H11: =G11 -> 0.0089
B12: TOTAL GRUPO A | H12: =SUM(H9:H11) -> 0.062
B13: GRUPO | C13: B | D13: BONIFICAÇÃO | H13: =G14 -> 0.0622
C14: B.1 | D14: LUCRO BRUTO | E14: 0.035 | F14: 0.0511 | G14: 0.0622
B15: TOTAL GRUPO B | H15: =SUM(H13) -> 0.0622
B16: GRUPO | C16: C | D16: IMPOSTOS
C17: C.1 | D17: PIS | E17: 0.0065 | F17: 0.0065 | G17: 0.0065 | H17: =G17 -> 0.0065
C18: C.2 | D18: COFINS | E18: 0.03 | F18: 0.03 | G18: 0.03 | H18: =G18 -> 0.03
C19: C.3 | D19: ISSQN | E19: 0 | F19: 0 | G19: 0 | H19: =G19 -> 0
C20: C.4 | D20: CPRB | E20: 0 | F20: 0 | G20: 0 | H20: =G20 -> 0
B21: TOTAL GRUPO C | H21: =SUM(H17:H20) -> 0.0365
B22: GRUPO | C22: D | D22: DESPESAS FINANCEIRAS (F) | H22: =G23 -> 0.0111
D23: DESPESAS FINANCEIRAS | E23: 0.0085 | F23: 0.0085 | G23: 0.0111
B24: TOTAL GRUPO D | H24: =SUM(H22) -> 0.0111
B25: TOTAL BDI (MATERIAIS, PEÇAS E EQUIPAMENTOS) | H25: =ROUND(((((1+H12)*(1+H24)*(1+H15))/(1-H21))-1),4) -> 0.1838
A28: BDI (%) = (((1+A) x (1+D) x (1+B) ) - 1 ) x 100
A29: (1- C)
B32: FONTE: ACÓRDÃO Nº 2622/2013 – TCU – Plenário

Sheet CILT
A1: ASSEMBLEIA LEGISLATIVA DO ESTADO DE RONDÔNIA
A2: ORÇAMENTO ESTIMATIVO
A3: PLANILHA DE COMPOSIÇÃO DE CUSTOS INDIRETOS, LUCRO E TRIBUTOS (CILT)
B5: OBJETO: Locação com facilities de imóvel em Brasília/DF para implantação de escritório de representação institucional da Assembleia Legislativa do Estado de Rondônia - ALE/RO
B6: LOCAL: Brasília/DF
B7: PLANILHA DE COMPOSIÇÃO DE CUSTOS INDIRETOS, LUCRO E TRIBUTOS (CILT)
B8: A | C8: CUSTOS INDIRETOS | D8: 0.05
B10: B | C10: LUCRO | D10: 0.1
B12: C | C12: TRIBUTOS | D12: =D13+D17 -> 0.0865
B13: C.1 | C13: Tributos Federais | D13: =D14+D15+D16 -> 0.0365
B14: C.1.1 | C14: PIS | D14: 0.0065
B15: C.1.2 | C15: COFINS | D15: 0.03
B16: C.1.3 | C16: CPRB | D16: 0
B17: C.2 | C17: Tributos Municipais (ISSQN) | D17: 0.05
B19: CILT | D19: =((1+$D$8)/((1-$D$12-$D$10)))-1 -> 0.29071911
A27: FONTES: ANEXO VII - "D" DA INSTRUÇÃO NORMATIVA SEGES/MPDG nº 05/2017

Sheet Estimativa Materiais Limpeza
A1: ASSEMBLEIA LEGISLATIVA DO ESTADO DE RONDÔNIA
A2: Materiais de limpeza - Estimativa de quantidades de uso/consumo
A3: Cotação | B3: Materiais | C3: Qtd anual | D3: Unidade | E3: Consumo mensal
A4: COTAÇÃO | B4: Adesivo em gel para vaso, embalagem com 3 um. (DESODORIZADOR SANITÁRIO VÁRIAS FRAGRÂNCIAS) | C4: 24 | D4: UND | E4: =C4/12 -> 2
A5: COTAÇÃO | B5: Água sanitária, galão com 5 litros | C5: 5 | D5: UND | E5: =C5/12 -> 0.41666667
A6: COTAÇÃO | B6: Álcool gel 70% Galão com 5 litros | C6: 5 | D6: UND | E6: =C6/12 -> 0.41666667
A7: COTAÇÃO | B7: Álcool liquido 70%, embalagem com 5 litro | C7: 5 | D7: UND | E7: =C7/12 -> 0.41666667
A8: COTAÇÃO | B8: Balde de plástico de 15 litros com Alça Cores Sortidas | C8: 2 | D8: UND | E8: =C8/12 -> 0.16666667
A9: COTAÇÃO | B9: Balde de plástico de 20 litros com Alça Cores Sortidas | C9: 2 | D9: UND | E9: =C9/12 -> 0.16666667
A10: COTAÇÃO | B10: Cera liquida incolor que dá brilho e forma uma camada protetora para vários pisos Galão com 5 litros | C10: 2 | D10: UND | E10: =C10/12 -> 0.16666667
A11: COTAÇÃO | B11: Desentupidor de vaso sanitário Cabo Plástico 60CM Único | C11: 1 | D11: UND | E11: =C11/12 -> 0.083333333
A12: COTAÇÃO | B12: Desinfetante germicida e bactericida concentrado (galão de 5 litros) | C12: 9.96 | D12: UND | E12: =C12/12 -> 0.83 | G12: =0.83*12 -> 9.96
A13: COTAÇÃO | B13: Desinfetante hospitalar Assert HC200 ou similar para (sanitização) (galão de 5 litros) | C13: 1 | D13: UND | E13: =C13/12 -> 0.083333333
A14: COTAÇÃO | B14: Desodorizador de ambiente 360 ml aerosol (várias fragrâncias) | C14: 24 | D14: UND | E14: =C14/12 -> 2
A15: COTAÇÃO | B15: Detergente liquido frasco com 500ml | C15: 12 | D15: UND | E15: =C15/12 -> 1
A16: COTAÇÃO | B16: Escova uso geral base de plástico ou madeira (unidade) | C16: 2 | D16: UND | E16: =C16/12 -> 0.16666667
A17: COTAÇÃO | B17: Escova sanitária com suporte (basa) | C17: 2 | D17: UND | E17: =C17/12 -> 0.16666667
A18: COTAÇÃO | B18: Esponja dupla face 1 unidade | C18: 24 | D18: UND | E18: =C18/12 -> 2
A19: COTAÇÃO | B19: Fibra Sintética Verde 102MM X 260MM - Limpeza Pesada (unidade) | C19: 24 | D19: UND | E19: =C19/12 -> 2
A20: COTAÇÃO | B20: Flanela de limpeza cor branca, tamanho 50x50 | C20: 24 | D20: UND | E20: =C20/12 -> 2
A21: COTAÇÃO | B21: Hipermeabilizante para piso paviflex (galão de 5 litros) | C21: 1 | D21: UND | E21: =C21/12 -> 0.083333333
A22: COTAÇÃO | B22: Limpador De Pedras 5L (marmore e granitos) galão de 5 litros | C22: 2 | D22: UND | E22: =C22/12 -> 0.16666667
A23: COTAÇÃO | B23: Limpa vidros para remover manchas de vidros, fórmicas, espelhos e superfícies impermeáveis (galão de 5 litros) | C23: 6 | D23: UND | E23: =C23/12 -> 0.5
A24: COTAÇÃO | B24: Limpador multiuso (500 ml) | C24: 24 | D24: UND | E24: =C24/12 -> 2
... A46: COTAÇÃO | B46: Vassoura tipo noviça de naylon uso internos/externos | C46: 2 | D46: UND | E46: =C46/12 -> 0.16666667
A47: Obs.: Os materiais acima foram dimensionados para utilização nos ambientes internos do escritório de representação institucional da ALE/RO. Os coeficientes são utilizados para inserção na composição do serviço de limpeza e conservação. Serviços em ambientes de uso comum considerou-se que estarão contemplados na taxa condominial

Sheet Mão de Obra
A1: ASSEMBLEIA LEGISLATIVA DO ESTADO DE RONDÔNIA
A2: ORÇAMENTO ESTIMATIVO
A3: PLANILHA ORÇAMENTÁRIA SINTÉTICA DE MÃO DE OBRA (POR DEMANDA)
D4: Obra | E4: Bancos | G4: CILT | I4: Encargos Sociais
D5: LOCAÇÃO COM FACILITIES - MÃO DE OBRA | E5: SINAPI - 08/2025 - Distrito Federal | G5: 29,07% | I5: Não Desonerado: embutido nos preços unitário dos insumos de mão de obra, de acordo com as bases.
A6: Orçamento Sintético
A7: Item | B7: Código | C7: Banco | D7: Descrição | E7: Und | F7: Quant. | G7: Valor Unit | H7: Valor Unit com CILT | I7: Total | J7: Peso (%)
A8: 1 | B8: 88269 | C8: SINAPI | D8: GESSEIRO COM ENCARGOS COMPLEMENTARES | E8: H | F8: 52 | G8: 32.46 | H8: 41.89 | I8: =TRUNC(H8*F8,2) -> 2178.28 | J8: 0.041081516
A9: 2 | B9: 88309 | C9: SINAPI | D9: PEDREIRO COM ENCARGOS COMPLEMENTARES | E9: H | F9: 78 | G9: 32.69 | H9: 42.19 | I9: =TRUNC(H9*F9,2) -> 3290.82 | J9: 0.062063589
A10: 3 | B10: 88267 | C10: SINAPI | D10: ENCANADOR OU BOMBEIRO HIDRÁULICO COM ENCARGOS COMPLEMENTARES | E10: H | F10: 52 | G10: 31.96 | H10: 41.25 | I10: =TRUNC(H10*F10,2) -> 2145 | J10: 0.040453868
A11: 4 | B11: 88315 | C11: SINAPI | D11: SERRALHEIRO COM ENCARGOS COMPLEMENTARES | E11: H | F11: 26 | G11: 32.46 | H11: 41.89 | I11: =TRUNC(H11*F11,2) -> 1089.14 | J11: 0.020540758
A12: 5 | B12: 88273 | C12: SINAPI | D12: MARCENEIRO COM ENCARGOS COMPLEMENTARES | E12: H | F12: 78 | G12: 30.59 | H12: 39.48 | I12: =TRUNC(H12*F12,2) -> 3079.44 | J12: 0.058077044
A13: 6 | B13: 88264 | C13: SINAPI | D13: ELETRICISTA COM ENCARGOS COMPLEMENTARES | E13: H | F13: 156 | G13: 33.09 | H13: 42.7 | I13: =TRUNC(H13*F13,2) -> 6661.2 | J13: 0.12562765
A14: 7 | B14: 88247 | C14: SINAPI | D14: AUXILIAR DE ELETRICISTA COM ENCARGOS COMPLEMENTARES | E14: H | F14: 156 | G14: 26.26 | H14: 33.89 | I14: =TRUNC(H14*F14,2) -> 5286.84 | J14: 0.099707751
A15: 8 | B15: 88266 | C15: SINAPI | D15: ELETROTÉCNICO/TÉCNICO EM REDES COM ENCARGOS COMPLEMENTARES | E15: H | F15: 156 | G15: 40.04 | H15: 51.67 | I15: =TRUNC(H15*F15,2) -> 8060.52 | J15: 0.15201828
A16: 9 | B16: 88241 | C16: SINAPI | D16: AJUDANTE DE OPERAÇÃO EM GERAL COM ENCARGOS COMPLEMENTARES | E16: H | F16: 520 | G16: 25.73 | H16: 33.2 | I16: =TRUNC(H16*F16,2) -> 17264 | J16: 0.32559234
A17: 10 | B17: 100308 | C17: SINAPI | D17: MECÂNICO DE REFRIGERAÇÃO COM ENCARGOS COMPLEMENTARES | E17: H | F17: 52 | G17: 34.51 | H17: 44.54 | I17: =TRUNC(H17*F17,2) -> 2316.08 | J17: 0.04368037
A18: 11 | B18: 88250 | C18: SINAPI | D18: AUXILIAR DE MECÂNICO COM ENCARGOS COMPLEMENTARES | E18: H | F18: 52 | G18: 24.62 | H18: 31.77 | I18: =TRUNC(H18*F18,2) -> 1652.04 | J18: 0.031156834
K19: =SUM(I8:I18) -> 53023.36
F20: Total sem BDI | J20: 41088.84
F21: Total do BDI | J21: 11934.52
F22: Total Geral | J22: 53023.36

Sheet Insumos
A1: ASSEMBLEIA LEGISLATIVA DO ESTADO DE RONDÔNIA
A2: ORÇAMENTO ESTIMATIVO
A3: PLANILHA ORÇAMENTÁRIA SINTÉTICA DE INSUMOS (POR DEMANDA)
D4: Obra | E4: Bancos | G4: B.D.I. | I4: Encargos Sociais
D5: LOCAÇÃO COM FACILITIES - INSUMOS | E5: SINAPI - 08/2025 - Distrito Federal ORSE - 06/2025 - Sergipe CPOS/CDHU - 06/2025 - São Paulo | G5: 18,38% | I5: Não Desonerado: embutido nos preços unitário dos insumos de mão de obra, de acordo com as bases.
A6: Orçamento Sintético
A7: Item | B7: Código | C7: Banco | D7: Descrição | E7: Und | F7: Quant. | G7: Valor Unit | H7: Valor Unit com BDI | I7: Total | J7: Peso (%)
A8: 1 | B8: 00038124 | C8: SINAPI | D8: ESPUMA EXPANSIVA DE POLIURETANO, APLICACAO MANUAL - 500 ML | E8: UN | F8: 3 | G8: 23.9 | H8: 28.29 | I8: =TRUNC(F8*H8,2) -> 84.87 | J8: 0.0058189283
A9: 2 | B9: 00039961 | C9: SINAPI | D9: SILICONE ACETICO USO GERAL INCOLOR 280 G | E9: UN | F9: 2 | G9: 28.36 | H9: 33.57 | I9: =TRUNC(F9*H9,2) -> 67.14 | J9: 0.0046033091
A10: 3 | B10: 00039719 | C10: SINAPI | D10: ADESIVO / COLA DE CONTATO LIQUIDO, A BASE DE RESINAS, PARA COLAGEM DE ESPUMA PARA ISOLAMENTO TERMICO FLEXIVEL | E10: L | F10: 2 | G10: 190.75 | H10: 225.8 | I10: =TRUNC(F10*H10,2) -> 451.6 | J10: 0.030962979
A11: 4 | B11: 00044327 | C11: SINAPI | D11: COLA PARA TUBOS E MANTAS ELASTOMERICAS, A BASE DE SOLVENTE | E11: L | F11: 1 | G11: 177.99 | H11: 210.7 | I11: =TRUNC(F11*H11,2) -> 210.7 | J11: 0.014446191
A12: 5 | B12: 00000156 | C12: SINAPI | D12: ADESIVO ESTRUTURAL A BASE DE RESINA EPOXI, BICOMPONENTE, FLUIDO | E12: KG | F12: 2 | G12: 66.33 | H12: 78.52 | I12: =TRUNC(F12*H12,2) -> 157.04 | J12: 0.010767108
A13: 6 | B13: 00001339 | C13: SINAPI | D13: COLA A BASE DE RESINA SINTETICA PARA CHAPA DE LAMINADO MELAMINICO E OUTROS | E13: KG | F13: 2 | G13: 38.81 | H13: 45.94 | I13: =TRUNC(F13*H13,2) -> 91.88 | J13: 0.0062995538
A14: 7 | B14: 00011058 | C14: SINAPI | D14: PARAFUSO ROSCA SOBERBA ZINCADO CABECA CHATA FENDA SIMPLES 5,5 X 65 MM (2.1/2") | E14: UN | F14: 50 | G14: 0.46 | H14: 0.54 | I14: =TRUNC(F14*H14,2) -> 27 | J14: 0.0018511967
A15: 8 | B15: 00004356 | C15: SINAPI | D15: PARAFUSO DE ACO ZINCADO COM ROSCA SOBERBA, CABECA CHATA E FENDA SIMPLES, DIAMETRO 4,8 MM, COMPRIMENTO 45 MM | E15: UN | F15: 50 | G15: 0.26 | H15: 0.3 | I15: =TRUNC(F15*H15,2) -> 15 | J15: 0.0010284426
A16: 9 | B16: 00011056 | C16: SINAPI | D16: PARAFUSO ROSCA SOBERBA ZINCADO CABECA CHATA FENDA SIMPLES 3,8 X 30 MM (1.1/4") | E16: UN | F16: 50 | G16: 0.09 | H16: 0.1 | I16: =TRUNC(F16*H16,2) -> 5 | J16: 0.0003428142
A17: 10 | B17: 00010691 | C17: SINAPI | D17: SOLVENTE PARA COLA A BASE DE RESINA SINTETICA (PARA COLA DE LAMINADO MELAMINICO E OUTRAS SUPERFICIES) | E17: L | F17: 2 | G17: 51.85 | H17: 61.38 | I17: =TRUNC(F17*H17,2) -> 122.76 | J17: 0.0084167743
A18: 11 | B18: 00034357 | C18: SINAPI | D18: REJUNTE CIMENTICIO, QUALQUER COR | E18: KG | F18: 5 | G18: 3.81 | H18: 4.51 | I18: =TRUNC(F18*H18,2) -> 22.55 | J18: 0.0015460921
A19: 12 | B19: 00039434 | C19: SINAPI | D19: MASSA DE REJUNTE EM PO PARA DRYWALL, A BASE DE GESSO, SECAGEM RAPIDA, PARA TRATAMENTO DE JUNTAS DE CHAPA DE GESSO (NECESSITA ADICAO DE AGUA) | E19: KG | F19: 20 | G19: 3.34 | H19: 3.95 | I19: =TRUNC(F19*H19,2) -> 79 | J19: 0.0054164644
... A60: 53 | B60: 00000224 | C60: Próprio | D60: Fechadura Eletrônica IFR7000 c/ Maçaneta | E60: UN | F60: 3 | G60: 1847.04 | H60: 2186.52 | I60: =TRUNC(F60*H60,2) -> 6559.56 | J60: 0.44974207
K61: =SUM(I8:I60) -> 14585.16
F62: Total sem BDI | J62: 12324.53
F63: Total do BDI | J63: 2260.63
F64: Total Geral | J64: =J62+J63 -> 14585.16

Sheet Serv. Gerenc. Facilities
A1: ASSEMBLEIA LEGISLATIVA DO ESTADO DE RONDÔNIA
A2: ORÇAMENTO ESTIMATIVO
A3: PLANILHA ORÇAMENTÁRIA ANALÍTICA - SERVIÇO DE GERENCIAMENTO E SUPERVISÃO DE FACILITIES
D4: Obra | E4: Bancos | G4: B.D.I. | I4: Encargos Sociais
D5: LOCAÇÃO COM FACILITIES - GERENCIAMENTO | E5: SINAPI - 08/2025 - Distrito Federal | G5: 26,19% | I5: Não Desonerado: embutido nos preços unitário dos insumos de mão de obra, de acordo com as bases.
A6: Planilha Orçamentária Analítica
A7: 1 | B7: Código | C7: Banco | D7: Descrição | E7: Tipo | G7: Und | H7: Quant. | I7: Valor Unit | J7: Total
A8: Composição | B8: PRQ209 | C8: Próprio | D8: Serviço de Gerenciamento e Supervição de Facilities | E8: SEDI - SERVIÇOS DIVERSOS | G8: mês | H8: 1 | I8: 459.41 | J8: 459.41
A9: Composição Auxiliar | B9: 90776 | C9: SINAPI | D9: ENCARREGADO GERAL COM ENCARGOS COMPLEMENTARES | E9: Livro SINAPI: Cálculos e Parâmetros | G9: H | H9: 17.33 | I9: 26.51 | J9: =TRUNC(H9*I9,2) -> 459.41
E10: MO sem LS => | F10: 409.68 | G10: LS => | H10: 0 | I10: MO com LS => | J10: 409.68
E11: Valor do BDI => | F11: 120.31 | H11: Valor com BDI => | J11: 579.72
G12: Quant. => | H12: 12,00 | I12: Preço Total => | J12: =TRUNC(H12*J11,2) -> 6956.64 | K12: 6956.64
F15: Total sem BDI | J15: 5512.92
F16: Total do BDI | J16: 1443.72
F17: Total Geral | J17: 6956.64

Sheet Manut. Prevent Sintét - Ar Cond
A1: ASSEMBLEIA LEGISLATIVA DO ESTADO DE RONDÔNIA
A2: ORÇAMENTO ESTIMATIVO
A3: PLANILHA ORÇAMENTÁRIA SINTÉTICA - SERVIÇO DE MANUTENÇÃO PREVENTIVA DE AR CONDICIONADO
D4: Obra | E4: Bancos | G4: B.D.I. | I4: Encargos Sociais
D5: LOCAÇÃO COM FACILITIES - MANUTENÇÃO PREVENTIVA DE AR CONDICIONADO | E5: SINAPI - 08/2025 - Distrito Federal | G5: 26,19% | I5: Não Desonerado: embutido nos preços unitário dos insumos de mão de obra, de acordo com as bases.
A6: Orçamento Sintético
A7: Item | B7: Código | C7: Banco | D7: Descrição | E7: Und | F7: Quant. | G7: Valor Unit | H7: Valor Unit com BDI | I7: Total | J7: Peso (%)
A8: 1 | B8: PRQ210 | C8: Próprio | D8: Serviço de Manutenção Preventiva de ar condicionado | E8: mês | F8: 12 | G8: 228.88 | H8: 288.82 | I8: =TRUNC(F8*H8,2) -> 3465.84 | J8: 1 | L8: 3465.84
F10: Total sem BDI | J10: 2746.56
F11: Total do BDI | J11: 719.28
F12: Total Geral | J12: 3465.84

Sheet Manut. Prevent Analít - Ar Cond
A1: ASSEMBLEIA LEGISLATIVA DO ESTADO DE RONDÔNIA
A2: ORÇAMENTO ESTIMATIVO
A3: PLANILHA ORÇAMENTÁRIA ANALÍTICA - SERVIÇO DE MANUTENÇÃO PREVENTIVA DE AR CONDICIONADO
D4: Obra | E4: Bancos | G4: B.D.I. | I4: Encargos Sociais
D5: LOCAÇÃO COM FACILITIES - MANUTENÇÃO PREVENTIVA DE AR CONDICIONADO | E5: SINAPI - 08/2025 - Distrito Federal | G5: 26,19% | I5: Não Desonerado: embutido nos preços unitário dos insumos de mão de obra, de acordo com as bases.
A6: Planilha Orçamentária Analítica
A7: 1 | B7: Código | C7: Banco | D7: Descrição | E7: Tipo | G7: Und | H7: Quant. | I7: Valor Unit | J7: Total
A8: Composição | B8: PRQ210 | C8: Próprio | D8: Serviço de Manutenção Preventiva de ar condicionado | E8: SEDI - SERVIÇOS DIVERSOS | G8: mês | H8: 1 | I8: 228.88 | J8: 228.88
A9: Composição Auxiliar | B9: 100308 | C9: SINAPI | D9: MECÂNICO DE REFRIGERAÇÃO COM ENCARGOS COMPLEMENTARES | E9: Livro SINAPI: Cálculos e Parâmetros | G9: H | H9: 3 | I9: 34.51 | J9: =TRUNC(H9*I9,2) -> 103.53 | K9: 103.53
A10: Composição Auxiliar | B10: 88250 | C10: SINAPI | D10: AUXILIAR DE MECÂNICO COM ENCARGOS COMPLEMENTARES | E10: Livro SINAPI: Cálculos e Parâmetros | G10: H | H10: 3 | I10: 24.62 | J10: =TRUNC(H10*I10,2) -> 73.86 | K10: 73.86
A11: Insumo | B11: 00020111 | C11: SINAPI | D11: FITA ISOLANTE ADESIVA ANTICHAMA, USO ATE 750 V, EM ROLO DE 19 MM X 20 M | E11: Material | G11: UN | H11: 0.05 | I11: 12.08 | J11: =TRUNC(H11*I11,2) -> 0.6 | K11: 0.6
A12: Insumo | B12: 00000215 | C12: Próprio | D12: Bactericida Aromatizador de Ambiente para Ar-Condicionado (01 litro) | E12: Material | G12: L | H12: 0.17 | I12: 22.18 | J12: =TRUNC(H12*I12,2) -> 3.77 | K12: 3.77
A13: Insumo | B13: 00000175 | C13: Próprio | D13: Álcool liquido 70%, embalagem com 5 litro | E13: Material | G13: UN | H13: 0.42 | I13: 37.81 | J13: =TRUNC(H13*I13,2) -> 15.88 | K13: 15.88
A14: Insumo | B14: 00000183 | C14: Próprio | D14: Detergente liquido frasco com 500ml | E14: Material | G14: UN | H14: 0.83 | I14: 1.98 | J14: =TRUNC(H14*I14,2) -> 1.64 | K14: 1.64
A15: Insumo | B15: 00000217 | C15: Próprio | D15: Thilex Desengraxante e Desincrustante Ácido para Uso Geral e Limpeza de Evaporadores de Ar Cond. (05 Litros) | E15: Material | G15: L | H15: 0.42 | I15: 49.24 | J15: =TRUNC(H15*I15,2) -> 20.68 | K15: 20.68
A16: Insumo | B16: 00000216 | C16: Próprio | D16: Lubrificante Micro Óleo Anticorrosivo WD-40 300ml | E16: Material | G16: L | H16: 0.025 | I16: 38.48 | J16: =TRUNC(H16*I16,2) -> 0.96 | K16: 0.96
A17: Insumo | B17: 00000013 | C17: SINAPI | D17: ESTOPA | E17: Material | G17: KG | H17: 0.4 | I17: 19.92 | J17: =TRUNC(H17*I17,2) -> 7.96 | K17: 7.96
E18: MO sem LS => | F18: 126.57 | G18: LS => | H18: 0 | I18: MO com LS => | J18: 126.57
E19: Valor do BDI => | F19: 59.94 | H19: Valor com BDI => | J19: 288.82 | L19: =TRUNC(J19*H20,2) -> 3465.84
G20: Quant. => | H20: 12,00 | I20: Preço Total => | J20: 3465.84
F23: Total sem BDI | J23: 2746.56
F24: Total do BDI | J24: 719.28
F25: Total Geral | J25: 3465.84
A27: _______________________________________________________________

Sheet Serv. Limpeza - Sintético
A1: ASSEMBLEIA LEGISLATIVA DO ESTADO DE RONDÔNIA
A2: ORÇAMENTO ESTIMATIVO
A3: PLANILHA ORÇAMENTÁRIA SINTÉTICA - SERVIÇO DE LIMPEZA E CONSERVAÇÃO PREDIAL
D4: Obra | E4: Bancos | G4: B.D.I. | I4: Encargos Sociais
D5: LOCAÇÃO COM FACILITIES - LIMPEZA E CONSERVAÇÃO PREDIAL | E5: SINAPI - 08/2025 - Distrito Federal | G5: 26,19% | I5: Não Desonerado: embutido nos preços unitário dos insumos de mão de obra, de acordo com as bases.
A6: Orçamento Sintético
A7: Item | B7: Código | C7: Banco | D7: Descrição | E7: Und | F7: Quant. | G7: Valor Unit | H7: Valor Unit com BDI | I7: Total | J7: Peso (%)
A8: 1 | B8: PRQ208 | C8: Próprio | D8: Serviço de limpeza e conservação predial | E8: mês | F8: 12 | G8: 1165.18 | H8: 1470.34 | I8: =TRUNC(H8*F8,2) -> 17644.08 | J8: 1 | K8: 17644.08
F10: Total sem BDI | J10: 13982.16
F11: Total do BDI | J11: 3661.92
F12: Total Geral | J12: 17644.08

Sheet Serv. Limpeza - Analítico
A1: ASSEMBLEIA LEGISLATIVA DO ESTADO DE RONDÔNIA
A2: ORÇAMENTO ESTIMATIVO
A3: PLANILHA ORÇAMENTÁRIA ANALÍTICA - SERVIÇO DE LIMPEZA E CONSERVAÇÃO PREDIAL
D4: Obra | E4: Bancos | G4: B.D.I. | I4: Encargos Sociais
D5: LOCAÇÃO COM FACILITIES - LIMPEZA E CONSERVAÇÃO PREDIAL | E5: SINAPI - 08/2025 - Distrito Federal | G5: 26,19% | I5: Não Desonerado: embutido nos preços unitário dos insumos de mão de obra, de acordo com as bases.
A6: Planilha Orçamentária Analítica
A7: 1 | B7: Código | C7: Banco | D7: Descrição | E7: Tipo | G7: Und | H7: Quant. | I7: Valor Unit | J7: Total
A8: Composição | B8: PRQ208 | C8: Próprio | D8: Serviço de limpeza e conservação predial | E8: SEDI - SERVIÇOS DIVERSOS | G8: mês | H8: 1 | I8: 1165.18 | J8: 1165.18 | K8: 1165.18
A9: Composição Auxiliar | B9: 88252 | C9: SINAPI | D9: AUXILIAR DE SERVIÇOS GERAIS COM ENCARGOS COMPLEMENTARES | E9: SEDI - SERVIÇOS DIVERSOS | G9: H | H9: 26 | I9: 24.79 | J9: =TRUNC(H9*I9,2) -> 644.54 | K9: 644.54
A10: Insumo | B10: 00000198 | C10: Próprio | D10: Lã de aço (pacote com 8 unidades ) | E10: Material | G10: UN | H10: 0.25 | I10: 1.9 | J10: =TRUNC(H10*I10,2) -> 0.47 | K10: 0.47
A11: Insumo | B11: 00000189 | C11: Próprio | D11: Impermeabilizante para piso paviflex (galão de 5 litros) | E11: Material | G11: UN | H11: 0.08 | I11: 173.99 | J11: =TRUNC(H11*I11,2) -> 13.91 | K11: 13.91
A12: Insumo | B12: 00000192 | C12: Próprio | D12: Limpador multiuso (500 ml) | E12: Material | G12: UN | H12: 2 | I12: 1.99 | J12: =TRUNC(H12*I12,2) -> 3.98 | K12: 3.98
A13: Insumo | B13: 00000197 | C13: Próprio | D13: Pá coletora de lixo de material plástico com cabo de alumínio revestido de plástico com 90cm (26 x 25 x 90 centímetros) | E13: Material | G13: UN | H13: 0.17 | I13: 15.71 | J13: =TRUNC(H13*I13,2) -> 2.67 | K13: 2.67
A14: Insumo | B14: 00000188 | C14: Próprio | D14: Flanela de limpeza cor branca, tamanho 50x50 | E14: Material | G14: UN | H14: 2 | I14: 2.57 | J14: =TRUNC(H14*I14,2) -> 5.14 | K14: 5.14
A15: Insumo | B15: 00000206 | C15: Próprio | D15: Sabão em barra embalagem com 5 unidade | E15: Material | G15: UN | H15: 0.17 | I15: 10.68 | J15: =TRUNC(H15*I15,2) -> 1.81 | K15: 1.81
A16: Insumo | B16: 00000194 | C16: Próprio | D16: Luva Refil Para Rodo Limpa Vidros Combinado 40Cm | E16: Material | G16: UN | H16: 0.08 | I16: 21.72 | J16: =TRUNC(H16*I16,2) -> 1.73 | K16: 1.73
A17: Insumo | B17: 00000214 | C17: Próprio | D17: Vassoura tipo noviça de naylon uso internos/externos | E17: Material | G17: UN | H17: 0.17 | I17: 19.2 | J17: =TRUNC(H17*I17,2) -> 3.26 | K17: 3.26
A18: Insumo | B18: 00000204 | C18: Próprio | D18: Rodo com cabo de alumínio 40cm com cabo de 150 cm | E18: Material | G18: UN | H18: 0.17 | I18: 37.56 | J18: =TRUNC(H18*I18,2) -> 6.38 | K18: 6.38
A19: Insumo | B19: 00000177 | C19: Próprio | D19: Balde de plástico de 20 litros com Alça Cores Sortidas | E19: Material | G19: UN | H19: 0.17 | I19: 19.17 | J19: =TRUNC(H19*I19,2) -> 3.25 | K19: 3.25
A20: Insumo | B20: 00000205 | C20: Próprio | D20: Rodo com cabo de aluminio 60cm com cabo de 150 cm | E20: Material | G20: UN | H20: 0.17 | I20: 40.41 | J20: =TRUNC(H20*I20,2) -> 6.86 | K20: 6.86
... A52: Insumo | B52: 00000174 | C52: Próprio | D52: Álcool gel 70% Galão com 5 litros | E52: Material | G52: UN | H52: 0.42 | I52: 38.87 | J52: =TRUNC(H52*I52,2) -> 16.32 | K52: 16.32
E53: MO sem LS => | F53: 411.58 | G53: LS => | H53: 0 | I53: MO com LS => | J53: 411.58
E54: Valor do BDI => | F54: 305.16 | H54: Valor com BDI => | J54: 1470.34
G55: Quant. => | H55: 12,00 | I55: Preço Total => | J55: 17644.08
F58: Total sem BDI | J58: 13982.16
F59: Total do BDI | J59: 3661.92
F60: Total Geral | J60: 17644.08
A62: _______________________________________________________________

Sheet Man. Predial Sinté-Mão de Obra
A1: ASSEMBLEIA LEGISLATIVA DO ESTADO DE RONDÔNIA
A2: ORÇAMENTO ESTIMATIVO
A3: PLANILHA ORÇAMENTÁRIA SINTÉTICA - SERVIÇOS DE MANUTENÇÃO PREDIAL (POR DEMANDA)
D4: Obra | E4: Bancos | G4: B.D.I. | I4: Encargos Sociais
D5: LOCAÇÃO COM FACILITIES - MANUTENÇÃO PREDIAL COM MÃO DE OBRA | E5: SINAPI - 08/2025 - Distrito Federal ORSE - 06/2025 - Sergipe FDE - 04/2025 - São Paulo | G5: 26,19% | I5: Não Desonerado: embutido nos preços unitário dos insumos de mão de obra, de acordo com as bases.
A6: Orçamento Sintético
A7: Item | B7: Código | C7: Banco | D7: Descrição | E7: Und | F7: Quant. | G7: Valor Unit | H7: Valor Unit com BDI | I7: Total | J7: Peso (%)
A8: 1 | B8: 98556 | C8: SINAPI | D8: IMPERMEABILIZAÇÃO DE SUPERFÍCIE COM ARGAMASSA POLIMÉRICA / MEMBRANA ACRÍLICA, 4 DEMÃOS, REFORÇADA COM VÉU DE POLIÉSTER (MAV). AF_09/2023 | E8: m² | F8: 3 | G8: 66.36 | H8: 83.73 | I8: =TRUNC(H8*F8,2) -> 251.19 | J8: 0.0060219445
A9: 2 | B9: 96113 | C9: SINAPI | D9: FORRO EM PLACAS DE GESSO, PARA AMBIENTES COMERCIAIS. AF_08/2023_PS | E9: m² | F9: 11.2 | G9: 50.91 | H9: 64.24 | I9: =TRUNC(H9*F9,2) -> 719.48 | J9: 0.017248571
A10: 3 | B10: 96120 | C10: SINAPI | D10: ACABAMENTOS PARA FORRO (MOLDURA DE GESSO). AF_08/2023 | E10: M | F10: 20 | G10: 3.26 | H10: 4.11 | I10: =TRUNC(H10*F10,2) -> 82.2 | J10: 0.0019706351
A11: 4 | B11: 96359 | C11: SINAPI | D11: PAREDE COM SISTEMA EM CHAPAS DE GESSO PARA DRYWALL, USO INTERNO, COM DUAS FACES SIMPLES E ESTRUTURA METÁLICA COM GUIAS SIMPLES PARA PAREDES COM ÁREA LÍQUIDA MAIOR OU IGUAL A 6 M2, COM VÃOS. AF_07/2023_PS | E11: m² | F11: 20 | G11: 99.13 | H11: 125.09 | I11: =TRUNC(H11*F11,2) -> 2501.8 | J11: 0.059977311
A12: 5 | B12: 98671 | C12: SINAPI | D12: PISO EM GRANITO APLICADO EM AMBIENTES INTERNOS. AF_09/2020 | E12: m² | F12: 10 | G12: 378.91 | H12: 478.14 | I12: =TRUNC(H12*F12,2) -> 4781.4 | J12: 0.11462767
A13: 6 | B13: 101727 | C13: SINAPI | D13: PISO VINÍLICO SEMI-FLEXÍVEL EM PLACAS, PADRÃO LISO, ESPESSURA 3,2 MM, FIXADO COM COLA. AF_09/2020 | E13: m² | F13: 10 | G13: 192.39 | H13: 242.77 | I13: =TRUNC(H13*F13,2) -> 2427.7 | J13: 0.058200863
A14: 7 | B14: 87273 | C14: SINAPI | D14: REVESTIMENTO CERÂMICO PARA PAREDES INTERNAS COM PLACAS TIPO ESMALTADA DE DIMENSÕES 33X45 CM APLICADAS NA ALTURA INTEIRA DAS PAREDES. AF_02/2023_PE | E14: m² | F14: 5 | G14: 73.31 | H14: 92.5 | I14: =TRUNC(H14*F14,2) -> 462.5 | J14: 0.011087819
A15: 8 | B15: 88488 | C15: SINAPI | D15: PINTURA LÁTEX ACRÍLICA PREMIUM, APLICAÇÃO MANUAL EM TETO, DUAS DEMÃOS. AF_04/2023 | E15: m² | F15: 112 | G15: 17.17 | H15: 21.66 | I15: =TRUNC(H15*F15,2) -> 2425.92 | J15: 0.05815819
A16: 9 | B16: 88489 | C16: SINAPI | D16: PINTURA LÁTEX ACRÍLICA PREMIUM, APLICAÇÃO MANUAL EM PAREDES, DUAS DEMÃOS. AF_04/2023 | E16: m² | F16: 336 | G16: 14.45 | H16: 18.23 | I16: =TRUNC(H16*F16,2) -> 6125.28 | J16: 0.1468454
A17: 10 | B17: 91926 | C17: SINAPI | D17: CABO DE COBRE FLEXÍVEL ISOLADO, 2,5 MM², ANTI-CHAMA 450/750 V, PARA CIRCUITOS TERMINAIS - FORNECIMENTO E INSTALAÇÃO. AF_03/2023 | E17: M | F17: 60 | G17: 5.19 | H17: 6.54 | I17: =TRUNC(H17*F17,2) -> 392.4 | J17: 0.0094072656
A18: 11 | B18: 91928 | C18: SINAPI | D18: CABO DE COBRE FLEXÍVEL ISOLADO, 4 MM², ANTI-CHAMA 450/750 V, PARA CIRCUITOS TERMINAIS - FORNECIMENTO E INSTALAÇÃO. AF_03/2023 | E18: M | F18: 45 | G18: 8.06 | H18: 10.17 | I18: =TRUNC(H18*F18,2) -> 457.65 | J18: 0.010971547
A19: 12 | B19: 91854 | C19: SINAPI | D19: ELETRODUTO FLEXÍVEL CORRUGADO, PVC, DN 25 MM (3/4"), PARA CIRCUITOS TERMINAIS, INSTALADO EM PAREDE - FORNECIMENTO E INSTALAÇÃO. AF_03/2023 | E19: M | F19: 20 | G19: 11.24 | H19: 14.18 | I19: =TRUNC(H19*F19,2) -> 283.6 | J19: 0.006798931
... A72: 65 | B72: PRQ226 | C72: Próprio | D72: LUMINÁRIA TIPO PLAFON QUADRADA, DE EMBUTIR, COM LED DE 24 W - FORNECIMENTO E INSTALAÇÃO - Ref. SINAPI - 08/2025 - 103788 | E72: UN | F72: 4 | G72: 86.94 | H72: 109.7 | I72: =TRUNC(H72*F72,2) -> 438.8 | J72: 0.010519644
L73: =SUM(I8:I72) -> 41712.44
F74: Total sem BDI | J74: 33059.33
F75: Total do BDI | J75: 8653.11
F76: Total Geral | J76: 41712.44
A78: _______________________________________________________________ ADMINISTRADOR ENG ALE Setor de Engenharia

Sheet Man. Predial Analit-Mão de Obra
A1: ASSEMBLEIA LEGISLATIVA DO ESTADO DE RONDÔNIA
A2: ORÇAMENTO ESTIMATIVO
A3: PLANILHA ORÇAMENTÁRIA ANALÍTICA - SERVIÇOS DE MANUTENÇÃO PREDIAL (POR DEMANDA)
D4: Obra | E4: Bancos | G4: B.D.I. | I4: Encargos Sociais
D5: LOCAÇÃO COM FACILITIES - MANUTENÇÃO PREDIAL COM MÃO DE OBRA | E5: SINAPI - 08/2025 - Distrito Federal ORSE - 06/2025 - Sergipe FDE - 04/2025 - São Paulo | G5: 26,19% | I5: Não Desonerado: embutido nos preços unitário dos insumos de mão de obra, de acordo com as bases.
A6: Planilha Orçamentária Analítica
A7: 1 | B7: Código | C7: Banco | D7: Descrição | E7: Tipo | G7: Und | H7: Quant. | I7: Valor Unit | J7: Total
A8: Composição | B8: 98556 | C8: SINAPI | D8: IMPERMEABILIZAÇÃO DE SUPERFÍCIE COM ARGAMASSA POLIMÉRICA / MEMBRANA ACRÍLICA, 4 DEMÃOS, REFORÇADA COM VÉU DE POLIÉSTER (MAV). AF_09/2023 | E8: IMPE - IMPERMEABILIZAÇÕES E PROTEÇÕES DIVERSAS | G8: m² | H8: 1 | I8: 66.36 | J8: 66.36
A9: Composição Auxiliar | B9: 88270 | C9: SINAPI | D9: IMPERMEABILIZADOR COM ENCARGOS COMPLEMENTARES | E9: SEDI - SERVIÇOS DIVERSOS | G9: H | H9: 0.9881 | I9: 32.69 | J9: 32.3
A10: Composição Auxiliar | B10: 88243 | C10: SINAPI | D10: AJUDANTE ESPECIALIZADO COM ENCARGOS COMPLEMENTARES | E10: SEDI - SERVIÇOS DIVERSOS | G10: H | H10: 0.2228 | I10: 25.64 | J10: 5.71
A11: Insumo | B11: 00000135 | C11: SINAPI | D11: ARGAMASSA POLIMERICA IMPERMEABILIZANTE SEMIFLEXIVEL, BICOMPONENTE, A BASE DE CIMENTO E ADITIVOS | E11: Material | G11: KG | H11: 4.6154 | I11: 4.1 | J11: 18.92
A12: Insumo | B12: 00004030 | C12: SINAPI | D12: VEU DE POLIESTER PARA IMPERMEABILIZACAO | E12: Material | G12: M² | H12: 1.3513 | I12: 6.98 | J12: 9.43
E13: MO sem LS => | F13: 27.06 | G13: LS => | H13: 0 | I13: MO com LS => | J13: 27.06
E14: Valor do BDI => | F14: 17.37 | H14: Valor com BDI => | J14: 83.73
G15: Quant. => | H15: 3,00 | I15: Preço Total => | J15: 251.19
A17: 2 | B17: Código | C17: Banco | D17: Descrição | E17: Tipo | G17: Und | H17: Quant. | I17: Valor Unit | J17: Total
A18: Composição | B18: 96113 | C18: SINAPI | D18: FORRO EM PLACAS DE GESSO, PARA AMBIENTES COMERCIAIS. AF_08/2023_PS | E18: REVE - REVESTIMENTO E TRATAMENTO DE SUPERFÍCIES | G18: m² | H18: 1 | I18: 50.91 | J18: 50.91
A19: Composição Auxiliar | B19: 88269 | C19: SINAPI | D19: GESSEIRO COM ENCARGOS COMPLEMENTARES | E19: SEDI - SERVIÇOS DIVERSOS | G19: H | H19: 0.7867 | I19: 32.46 | J19: 25.53
A20: Composição Auxiliar | B20: 88316 | C20: SINAPI | D20: SERVENTE COM ENCARGOS COMPLEMENTARES | E20: SEDI - SERVIÇOS DIVERSOS | G20: H | H20: 0.4522 | I20: 24.94 | J20: 11.27
A21: Insumo | B21: 00040547 | C21: SINAPI | D21: PARAFUSO ZINCADO, AUTOBROCANTE, FLANGEADO, 4,2 MM X 19 MM | E21: Material | G21: CENTO | H21: 0.0293 | I21: 27.77 | J21: 0.81
A22: Insumo | B22: 00004812 | C22: SINAPI | D22: PLACA DE GESSO PARA FORRO, *60 X 60* CM, ESPESSURA DE 12 MM (SEM COLOCACAO) | E22: Material | G22: M² | H22: 1.0414 | I22: 10.71 | J22: 11.15
A23: Insumo | B23: 00000345 | C23: SINAPI | D23: ARAME GALVANIZADO 18 BWG, D = 1,24MM (0,009 KG/M) | E23: Material | G23: KG | H23: 0.0217 | I23: 28.52 | J23: 0.61
A24: Insumo | B24: 00020250 | C24: SINAPI | D24: SISAL EM FIBRA / ESTOPA SISAL PARA GESSO | E24: Material | G24: KG | H24: 0.0078 | I24: 20 | J24: 0.15
A25: Insumo | B25: 00003315 | C25: SINAPI | D25: GESSO EM PO PARA REVESTIMENTOS/MOLDURAS/SANCAS E USO GERAL | E25: Material | G25: KG | H25: 1.8127 | I25: 0.77 | J25: 1.39
E26: MO sem LS => | F26: 25.63 | G26: LS => | H26: 0 | I26: MO com LS => | J26: 25.63
E27: Valor do BDI => | F27: 13.33 | H27: Valor com BDI => | J27: 64.24
G28: Quant. => | H28: 11,20 | I28: Preço Total => | J28: 719.48
A30: 3 | B30: Código | C30: Banco | D30: Descrição | E30: Tipo | G30: Und | H30: Quant. | I30: Valor Unit | J30: Total
A31: Composição | B31: 96120 | C31: SINAPI | D31: ACABAMENTOS PARA FORRO (MOLDURA DE GESSO). AF_08/2023 | E31: REVE - REVESTIMENTO E TRATAMENTO DE SUPERFÍCIES | G31: M | H31: 1 | I31: 3.26 | J31: 3.26
A32: Composição Auxiliar | B32: 88269 | C32: SINAPI | D32: GESSEIRO COM ENCARGOS COMPLEMENTARES | E32: SEDI - SERVIÇOS DIVERSOS | G32: H | H32: 0.0454 | I32: 32.46 | J32: 1.47
A33: Composição Auxiliar | B33: 88316 | C33: SINAPI | D33: SERVENTE COM ENCARGOS COMPLEMENTARES | E33: SEDI - SERVIÇOS DIVERSOS | G33: H | H33: 0.0261 | I33: 24.94 | J33: 0.65
A34: Insumo | B34: 00003315 | C34: SINAPI | D34: GESSO EM PO PARA REVESTIMENTOS/MOLDURAS/SANCAS E USO GERAL | E34: Material | G34: KG | H34: 0.3643 | I34: 0.77 | J34: 0.28
A35: Insumo | B35: 00005066 | C35: SINAPI | D35: PREGO DE ACO POLIDO COM CABECA 12 X 12 | E35: Material | G35: KG | H35: 0.0015 | I35: 25.52 | J35: 0.03
A36: Insumo | B36: 00020250 | C36: SINAPI | D36: SISAL EM FIBRA / ESTOPA SISAL PARA GESSO | E36: Material | G36: KG | H36: 0.0016 | I36: 20 | J36: 0.03
A37: Insumo | B37: 00004812 | C37: SINAPI | D37: PLACA DE GESSO PARA FORRO, *60 X 60* CM, ESPESSURA DE 12 MM (SEM COLOCACAO) | E37: Material | G37: M² | H37: 0.075 | I37: 10.71 | J37: 0.8
E38: MO sem LS => | F38: 1.47 | G38: LS => | H38: 0 | I38: MO com LS => | J38: 1.47
E39: Valor do BDI => | F39: 0.85 | H39: Valor com BDI => | J39: 4.11
G40: Quant. => | H40: 20,00 | I40: Preço Total => | J40: 82.2
A42: 4 | B42: Código | C42: Banco | D42: Descrição | E42: Tipo | G42: Und | H42: Quant. | I42: Valor Unit | J42: Total
A43: Composição | B43: 96359 | C43: SINAPI | D43: PAREDE COM SISTEMA EM CHAPAS DE GESSO PARA DRYWALL, USO INTERNO, COM DUAS FACES SIMPLES E ESTRUTURA METÁLICA COM GUIAS SIMPLES PARA PAREDES COM ÁREA LÍQUIDA MAIOR OU IGUAL A 6 M2, COM VÃOS. AF_07/2023_PS | E43: PARE - PAREDES/PAINEIS | G43: m² | H43: 1 | I43: 99.13 | J43: 99.13
...
